Workbook

Sheet Indicateurs de production
C2: Indicateurs de production vache-veau
C3: Comparez les résultats de votre ferme aux cibles de l’industrie et aux références régionales
C4: Entrez vos informations dans les cellules surlignées en jaune.
A6: Étape 1 : Entrez vos informations dans les cellules surlignées en jaune | J6: Étape 2 : Comparez-vous aux cibles de l’industrie** | M6: Étape 3 : Comparez-vous aux références régionales (vaches)***
A7: Région | C7: Est- canadien | D7: Sélectionnez une région dans la liste déroulante.
G8: INDICATEUR | J8: CIBLE | M8: =IF($C$7="Ouest canadien","Ouest canadien",(IF($C$7="Est- canadien","Est- canadien",IF($C$7="National","National","NA")))) -> Est- canadien
A9: Ratio vaches/taureau | C9: # Femelles exposées au taureau (ci-après "exposées") | E9: 375 | G9: =ROUND(E9/E10,0) -> 19 | J9: N/A | M9: =IF($C$7="Ouest canadien",'Références régionales'!$B11,(IF($C$7="Est- canadien",'Références régionales'!$C11,IF($C$7="National",'Références régionales'!$D11)))) -> 21.1
C10: # Taureaux utilisés | E10: 20
A12: Taux de conception (% gestantes) | C12: # Femelles saillies | E12: 304 | G12: =E12/E13 -> 0.81066667 | J12: 0.94 | K12: =IF($G12=0,"",IF($G12>=J12,"Atteint ou dépasse la cible","Possibilité d’amélioration")) -> Possibilité d’amélioration | M12: =IF($C$7="Ouest canadien",'Références régionales'!$B14,(IF($C$7="Est- canadien",'Références régionales'!$C14,IF($C$7="National",'Références régionales'!$D14)))) -> 0.944 | N12: =IF($G12=0,"",IF(M12="N/A","",IF($G12>=M12,"Atteint ou dépasse la cible","Possibilité d’amélioration"))) -> Possibilité d’amélioration
C13: # Femelles exposées | E13: =+E9 -> 375
A15: Durée de la période de vêlage des vaches (jours) | C15: Dernier jour de vêlage – Premier jour de vêlage | G15: 53 | H15: jours | J15: 63 | K15: =IF($G15="","",IF($G15<=63,"Atteint ou dépasse la cible","Possibilité d’amélioration")) -> Atteint ou dépasse la cible | M15: =IF($C$7="Ouest canadien",'Références régionales'!$B17,(IF($C$7="Est- canadien",'Références régionales'!$C17,IF($C$7="National",'Références régionales'!$D17)))) -> 106 | N15: =IF($G15="","",IF($G15<=M15,"Atteint ou dépasse la cible","Possibilité d’amélioration")) -> Atteint ou dépasse la cible
A17: Répartition des vêlages (%)
A18: Veaux nés entre 1 et 21 jours | C18: # Veaux entre 1 et 21 jrs | E18: 184 | G18: =E18/SUM(E$18:E$21) -> 0.60927152 | J18: 0.6 | K18: =IF(G18=0,"",IF(G18>=J18,"Atteint ou dépasse la cible","Possibilité d’amélioration")) -> Atteint ou dépasse la cible | M18: =IF($C$7="Ouest canadien",'Références régionales'!$B20,(IF($C$7="Est- canadien",'Références régionales'!$C20,IF($C$7="National",'Références régionales'!$D20)))) -> 0.52 | N18: =IF($G18="","",IF($G18>=M18,"Atteint ou dépasse la cible","Possibilité d’amélioration")) -> Atteint ou dépasse la cible
A19: Veaux nés entre 22 et 42 jours | C19: # Veaux entre 22 et 42 jrs | E19: 104 | G19: =E19/SUM(E$18:E$21) -> 0.34437086 | J19: 0.25 | M19: =IF($C$7="Ouest canadien",'Références régionales'!$B21,(IF($C$7="Est- canadien",'Références régionales'!$C21,IF($C$7="National",'Références régionales'!$D21)))) -> 0.294
A20: Veaux nés entre 43 et 63 jours | C20: # Veaux entre 43 et 63 jrs | E20: 14 | G20: =E20/SUM(E$18:E$21) -> 0.046357616 | J20: 0.1 | M20: =IF($C$7="Ouest canadien",'Références régionales'!$B22,(IF($C$7="Est- canadien",'Références régionales'!$C22,IF($C$7="National",'Références régionales'!$D22)))) -> 0.109
A21: Veaux nés 64 jours et + | C21: # Veaux 64 jrs et + | E21: 0 | G21: =E21/SUM(E$18:E$21) -> 0 | J21: 0.05 | M21: =IF($C$7="Ouest canadien",'Références régionales'!$B23,(IF($C$7="Est- canadien",'Références régionales'!$C23,IF($C$7="National",'Références régionales'!$D23)))) -> 0.077
C22: # Total de veaux nés | E22: =SUM(E18:E21) -> 302 | G22: La cellule E22 (# total de veaux nés) devrait être égale à la somme du nombre de femmelles ayant vêlées + le # paires de jumeaux
A24: Taux d'avortement (%) | C24: # Femelles saillies - # Femelles vêlées | E24: =+E12-E27 -> 3 | G24: =E24/E25 -> 0.0098684211 | J24: 0.03 | K24: =IF($G24=0,"",IF($G24<=J24,"Atteint ou dépasse la cible","Possibilité d’amélioration")) -> Atteint ou dépasse la cible | M24: =IF($C$7="Ouest canadien",'Références régionales'!$B25,(IF($C$7="Est- canadien",'Références régionales'!$C25,IF($C$7="National",'Références régionales'!$D25)))) -> 0.0101 | N24: =IF($G24="","",IF($G24<=M24,"Atteint ou dépasse la cible","Possibilité d’amélioration")) -> Atteint ou dépasse la cible
C25: # Femelles saillies | E25: =+E12 -> 304
A27: Taux de vêlage (%) | C27: # Femelles vêlées | E27: 301 | G27: =E27/E28 -> 0.80266667 | J27: =J12-J24 -> 0.91 | K27: =IF($G27=0,"",IF($G27>=J27,"Atteint ou dépasse la cible","Possibilité d’amélioration")) -> Possibilité d’amélioration | M27: =IF($C$7="Ouest canadien",'Références régionales'!$B28,(IF($C$7="Est- canadien",'Références régionales'!$C28,IF($C$7="National",'Références régionales'!$D28)))) -> 0.899 | N27: =IF($G27=0,"",(IF($G27>=M27,"Atteint ou dépasse la cible","Possibilité d’amélioration"))) -> Possibilité d’amélioration
C28: # Femelles exposées | E28: =E13 -> 375
A30: # de paires de jumeaux | C30: # de paires de jumeaux | E30: 1
A32: Mortalité des veaux dans les premières 24 h (%) | C32: # Veaux mort-nés ou morts dans les premières 24 h | E32: 5 | G32: =E32/E33 -> 0.016556291 | J32: N/A | M32: =IF($C$7="Ouest canadien",'Références régionales'!$B33,(IF($C$7="Est- canadien",'Références régionales'!$C33,IF($C$7="National",'Références régionales'!$D33)))) -> 0.024 | N32: =IF($G32="","",IF($G32<=M32,"Atteint ou dépasse la cible","Possibilité d’amélioration")) -> Atteint ou dépasse la cible
C33: # Femelles vêlées + # de paires de jumeaux | E33: =E27+E30 -> 302
A35: Mortalité des veaux après 24 h jusqu’au sevrage (%) | C35: # Veaux morts entre le jour 1 et le sevrage | E35: 1 | G35: =E35/E36 -> 0.0033670034 | J35: N/A | M35: =IF($C$7="Ouest canadien",'Références régionales'!$B36,(IF($C$7="Est- canadien",'Références régionales'!$C36,IF($C$7="National",'Références régionales'!$D36)))) -> 0.028 | N35: =IF($G35=0,"",IF($G35<=M35,"Atteint ou dépasse la cible","Possibilité d’amélioration")) -> Atteint ou dépasse la cible
C36: # Veaux nés vivants | E36: =+E27+E30-E32 -> 297
A38: Taux de sevrage (%) | C38: # Veaux sevrés | E38: 296 | G38: =E38/E39 -> 0.78933333 | J38: 0.85 | K38: =IF($G38=0,"",IF($G38>=J38,"Atteint ou dépasse la cible","Possibilité d’amélioration")) -> Possibilité d’amélioration | M38: =IF($C$7="Ouest canadien",'Références régionales'!$B39,(IF($C$7="Est- canadien",'Références régionales'!$C39,IF($C$7="National",'Références régionales'!$D39)))) -> 0.85285613 | N38: =IF($G38=0,"",IF($G38>=M38,"Atteint ou dépasse la cible","Possibilité d’amélioration")) -> Possibilité d’amélioration
C39: # Femelles exposées | E39: =+E9 -> 375 | G39: La cellule E38 (#Veaux sevrés) doit être égale ou inférieure au nombre de femelles ayant vêlé + le nombre de paires de jumeaux - le nombre de veaux morts.
A41: Poids moyen à la naissance (tous les veaux) (lb) | E41: 85 | J41: N/A | M41: N/A
A43: Poids moyen au sevrage (tous les veaux) (lbs) | E43: 431 | J43: N/A | M43: =IF($C$7="Ouest canadien",'Références régionales'!$B44,(IF($C$7="Est- canadien",'Références régionales'!$C44,IF($C$7="National",'Références régionales'!$D44)))) -> 590
A45: Poids total sevré/ femelles exposées (lbs) | C45: Poids total sevré (lb) | E45: =+E43*E38 -> 127576 | G45: =E45/E46 -> 340.20267 | J45: 460 | K45: =IF(G45=0,"",IF(G45>=J45,"Atteint ou dépasse la cible","Possibilité d’amélioration")) -> Possibilité d’amélioration | M45: N/A
C46: # Femelles exposées | E46: =+E9 -> 375
A48: Âge au sevrage (jours) | C48: Date du sevrage - Date moyenne de vêlage* | E48: =DATE(2024, 10, 28)-DATE(2024,5,7) -> 174 | J48: N/A | M48: =IF($C$7="Ouest canadien",'Références régionales'!$B49,(IF($C$7="Est- canadien",'Références régionales'!$C49,IF($C$7="National",'Références régionales'!$D49)))) -> 226
A50: Poids ajusté au sevrage à 205 jours (lb) | G50: =(E43-E41)/E48*205+E41 -> 492.64368 | J50: N/A | M50: =IF($C$7="Ouest canadien",'Références régionales'!$B51,(IF($C$7="Est- canadien",'Références régionales'!$C51,IF($C$7="National",'Références régionales'!$D51)))) -> 546 | N50: =IF($G50=0,"",IF($G50>=M50,"Atteint ou dépasse la cible","Possibilité d’amélioration")) -> Possibilité d’amélioration
A52: Gain moyen quotidien pré-sevrage (lbs) | C52: Gain de poids moyen | E52: =+E43-E41 -> 346 | G52: =+E52/E53 -> 1.9885057 | J52: N/A | M52: N/A
C53: Âge moyen au sevrage | E53: =+E48 -> 174
A55: Poids moyen au sevrage en % du poids de la vache | C55: Poids moyen au sevrage, lbs | E55: =+E43 -> 431 | G55: =+E55/E56 -> 0.33153846 | J55: 0.45 | K55: =IF(G55=0,"",IF(G55>=J55,"Atteint ou dépasse la cible","Possibilité d’amélioration")) -> Possibilité d’amélioration | M55: =IF($C$7="Ouest canadien",'Références régionales'!B56,(IF($C$7="Est- canadien",'Références régionales'!C56,IF($C$7="National",'Références régionales'!D56)))) -> 0.41 | N55: =IF(G55=0,"",IF(G55>=M55,"Atteint ou dépasse la cible","Possibilité d’amélioration")) -> Possibilité d’amélioration
C56: Poids moyen vache mature, lbs | E56: 1300
A58: Indicateurs OR | C58: Vos résultats | E58: Cible | G58: Références | K58: Vos résultats | L58: Cible | M58: Références régionales
G59: régionales | J59: Femelles exposées | K59: 1 | L59: 1 | M59: 1
A60: Croissance (poids au sevrage) | C60: =+E43 -> 431 | E60: =+J43 -> N/A | G60: =+M43 -> 590 | J60: Femelles saillies | K60: =+G12 -> 0.81066667 | L60: =+J12 -> 0.94 | M60: =+M12 -> 0.944
A61: Vaches non gestantes (%) | C61: =1-G12 -> 0.18933333 | E61: =1-J12 -> 0.06 | G61: =1-M12 -> 0.056 | J61: Femelles vêlées | K61: =G27 -> 0.80266667 | L61: =+J27 -> 0.91 | M61: =+M27 -> 0.899
A62: Durée de la période de vêlage | C62: =+G15 -> 53 | E62: =+J15 -> 63 | G62: =+M15 -> 106 | J62: Veaux sevrés | K62: =+G38 -> 0.78933333 | L62: =+J38 -> 0.85 | M62: =+M38 -> 0.85285613
A63: Mortalité des veaux du jour 1 au sevrage (%) | C63: =+G35 -> 0.0033670034 | E63: =+J35 -> N/A | G63: =+M35 -> 0.028
A64: * La date moyenne de vêlage correspond à la date à laquelle la moitié des veaux sont nés.
A65: ** Taux de conception – Source : page thématique du BCRC sur la gestion des vaches reproductrices - https://www.beefresearch.ca/topics/breeding-cows/ Durée de la période de vêlage – Source : article du BCRC Raccourcir la saison de vêlage : comment accroître la rentabilité grâce à une meilleure répartition des vêlages - https://www.beefresearch.ca/blog/calving-distribution-video/ Répartition des vêlages – Source : article du BCRC Raccourcir la saison de vêlage : comment accroître la rentabilité grâce à une meilleure répartition des vêlages. Taux d’avortement – Source : page thématique du BCRC sur la gestion des vaches reproductrices. Pourcentage de vêlage – Estimation fondée sur le taux de conception cible de l’industrie et le taux d’avortement. *** Les valeurs de référence régionales, à l’exception du taux de sevrage, proviennent de l’Enquête canadienne sur les exploitations vache-veau 2023. Les valeurs de référence du taux de sevrage sont estimées à partir du taux de vêlage et du taux de mortalité des veaux.

Sheet Références régionales
A1: Références régionales
A2: Source: Canadian Cow-Calf Survey 2023 | H2: Ths NDSU info is for comparison only, not used for industry targets or regional benchmarks.
B3: Ouest canadien | C3: Est- canadien | D3: National | E3: Notes | H3: NDSU Chaps Benchmarks
H4: https://www.ndsu.edu/fileadmin/chaps/Benchmarks2022-ltr.pdf
A11: Cow:Bull Ratio | B11: 20.1 | C11: 21.1 | D11: 20.4
A14: Conception Rate % | B14: =1-7.6% -> 0.924 | C14: =1-5.6% -> 0.944 | D14: 0.926
A17: Length of Calving Period | B17: 83 | C17: 106 | D17: 89
A20: % Calves Born Day 1-21 | B20: 0.604 | C20: 0.52 | D20: 0.58
A21: % Calves Born Day 22-42 | B21: 0.254 | C21: 0.294 | D21: 0.264
A22: % Calves Born Day 42+63 | B22: 0.102 | C22: 0.109 | D22: 0.103
A23: % Calves Born Day 63+ | B23: 0.039 | C23: 0.077 | D23: 0.048
A25: Cow Abortion Rate % | B25: 0.0101 | C25: 0.0101 | D25: 0.0101
A28: Cow Calving % | B28: 0.897 | C28: 0.899 | D28: 0.897
A33: Calf Death Loss within the first 24 hrs(%) | B33: 0.022 | C33: 0.024 | D33: 0.022
A36: Calf Death Loss after 24 hrs to weaning % | B36: 0.024 | C36: 0.028 | D36: 0.025
A39: Weaning Rate (%) | B39: =100*B28*(1-B33)*(1-B36)/100 -> 0.85621162 | C39: =100*C28*(1-C33)*(1-C36)/100 -> 0.85285613 | D39: =100*D28*(1-D33)*(1-D36)/100 -> 0.85533435 | E39: Estimates based on calving rate and calf deathloss.
A44: Average Weaning Weights (all calves), lbs | B44: 573 | C44: 590 | D44: 577
A49: Age at weaning | B49: 211 | C49: 226 | D49: 215
A51: Adjusted 205-day weaning weight | B51: 557 | C51: 546 | D51: 554
A56: Average WW as % of Mature Cow Weight | B56: 0.417 | C56: 0.41 | D56: 0.415
